BEGIN:VCALENDAR
VERSION:2.0
PRODID:-//CSC Youth Ministry - ECPv5.5.0.1//NONSGML v1.0//EN
CALSCALE:GREGORIAN
METHOD:PUBLISH
X-WR-CALNAME:CSC Youth Ministry
X-ORIGINAL-URL:https://christianstronghold.com/youthministry
X-WR-CALDESC:Events for CSC Youth Ministry
BEGIN:VTIMEZONE
TZID:America/New_York
BEGIN:DAYLIGHT
TZOFFSETFROM:-0500
TZOFFSETTO:-0400
TZNAME:EDT
DTSTART:20240310T070000
END:DAYLIGHT
BEGIN:STANDARD
TZOFFSETFROM:-0400
TZOFFSETTO:-0500
TZNAME:EST
DTSTART:20241103T060000
END:STANDARD
END:VTIMEZONE
BEGIN:VEVENT
DTSTART;TZID=America/New_York:20241221T190000
DTEND;TZID=America/New_York:20241221T220000
DTSTAMP:20260419T153902
CREATED:20241126T233108Z
LAST-MODIFIED:20241126T233108Z
UID:3165-1734807600-1734818400@christianstronghold.com
SUMMARY:Youth Formal: A Night of Elegance
DESCRIPTION:Bring out your Suit and Tie! Bring out your formal dress! Get ready for a night of Elegance! \nDate: Saturday\, December 21st \nTime: 7:00 – 10:00 p.m. \nLocation: Divinity Hall – 6011 Market St.\, Phila.\, PA 19139 \nRegistration information coming soon!
URL:https://christianstronghold.com/youthministry/event/youth-formal-a-night-of-elegance/
CATEGORIES:Fellowship,For Parents,For Workers,Outreach
ATTACH;FMTTYPE=image/png:https://christianstronghold.com/youthministry/wp-content/uploads/2024/11/Youth-Formal-2024-Instagram-Post-1.png
ORGANIZER;CN="CSC%20Youth":MAILTO:YouthPastor@christianstronghold.com
END:VEVENT
END:VCALENDAR