BEGIN:VCALENDAR
VERSION:2.0
PRODID:-//CSC Youth Ministry - ECPv5.5.0.1//NONSGML v1.0//EN
CALSCALE:GREGORIAN
METHOD:PUBLISH
X-WR-CALNAME:CSC Youth Ministry
X-ORIGINAL-URL:https://christianstronghold.com/youthministry
X-WR-CALDESC:Events for CSC Youth Ministry
BEGIN:VTIMEZONE
TZID:America/New_York
BEGIN:DAYLIGHT
TZOFFSETFROM:-0500
TZOFFSETTO:-0400
TZNAME:EDT
DTSTART:20240310T070000
END:DAYLIGHT
BEGIN:STANDARD
TZOFFSETFROM:-0400
TZOFFSETTO:-0500
TZNAME:EST
DTSTART:20241103T060000
END:STANDARD
END:VTIMEZONE
BEGIN:VEVENT
DTSTART;TZID=America/New_York:20241026T090000
DTEND;TZID=America/New_York:20241026T140000
DTSTAMP:20260419T082421
CREATED:20240927T164102Z
LAST-MODIFIED:20240927T164102Z
UID:3140-1729933200-1729951200@christianstronghold.com
SUMMARY:Anti-Gun Violence Community Events
DESCRIPTION:Join us for a community discussion on gun violence. Together\, we’ll raise awareness and create and begin implementing real solutions to make our neighborhoods safer.  \nWe’re offering a safe space for youth to come together to talk about how they’ve been affected by the gun violence and how we can stop it from continuing! \nGet Involved! \n\nMeet local youth organizations making a difference\nTalk with city officials\nCollaborate with community advocates working to stop the violence\nAnd much more!\n\nREGISTER HERE: https://tinyurl.com/2xr6zjwj
URL:https://christianstronghold.com/youthministry/event/anti-gun-violence-community-events/
CATEGORIES:For Parents,For Workers,Outreach
ATTACH;FMTTYPE=image/png:https://christianstronghold.com/youthministry/wp-content/uploads/2024/09/Anti-Gun-Violence-Community-Event-Instagram-Post.png
ORGANIZER;CN="CSC%20Youth":MAILTO:YouthPastor@christianstronghold.com
END:VEVENT
END:VCALENDAR